BEGIN:VCALENDAR
VERSION:2.0
PRODID:-//ChamberMaster//Event Calendar 2.0//EN
METHOD:PUBLISH
X-PUBLISHED-TTL:P3D
REFRESH-INTERVAL:P3D
CALSCALE:GREGORIAN
BEGIN:VEVENT
DTSTART:20191206T010000Z
DTEND:20191206T050000Z
X-MICROSOFT-CDO-ALLDAYEVENT:FALSE
SUMMARY:Winter Olive Oil Tasting
DESCRIPTION:Join us to taste the finest quality olive oil\, artisanal and extra virgin from Poway\, California with Dos Pizotes https://www.dospizotesoliveranch.com/. You will find a warm atmosphere to promote the health and taste benefits of the best olive oil in San Diego.
X-ALT-DESC;FMTTYPE=text/html:Join us to taste the finest quality olive oil\, artisanal and extra virgin from Poway\, California with Dos Pizotes https://www.dospizotesoliveranch.com/. You will find a warm atmosphere to promote the health and taste benefits of the best olive oil in San Diego.
LOCATION:14053 Midland Rd. Poway CA 92064
UID:e.530.16313
SEQUENCE:3
DTSTAMP:20260421T044039Z
URL:https://business.poway.com/events/details/winter-olive-oil-tasting-16313
END:VEVENT

END:VCALENDAR
