BEGIN:VCALENDAR
VERSION:2.0
PRODID:-//ChamberMaster//Event Calendar 2.0//EN
METHOD:PUBLISH
X-PUBLISHED-TTL:P3D
REFRESH-INTERVAL:P3D
CALSCALE:GREGORIAN
BEGIN:VEVENT
DTSTART:20200529T010000Z
DTEND:20200529T020000Z
X-MICROSOFT-CDO-ALLDAYEVENT:FALSE
SUMMARY:VIRTUAL May Mixer
DESCRIPTION:The Poway Chamber of Commerce hosts its first VIRTUAL Mixer! Join us for an evening of networking\, conversation and the chance to win $300 in our rollover jackpot\, sponsored by KPI Dynamics!
X-ALT-DESC;FMTTYPE=text/html:The Poway Chamber of Commerce hosts its first VIRTUAL Mixer! Join us for an evening of networking\, conversation and the chance to win $300 in our rollover jackpot\, sponsored by KPI Dynamics!
LOCATION:Topic: Poway Chamber of Commerce May Mixer Time: May 28\, 2020 06:00 PM Pacific Time (US and Canada) Join Zoom Meeting https://us02web.zoom.us/j/86055409524?pwd=WWM1Y1J0bVpGbFJLUzFsMjdkUk1OQT09 Meeting ID: 860 5540 9524 Password: 228698 One tap mobile +16699006833\,\,86055409524#\,\,1#\,228698# US (San Jose) +12532158782\,\,86055409524#\,\,1#\,228698# US (Tacoma) Dial by your location +1 669 900 6833 US (San Jose) +1 253 215 8782 US (Tacoma) +1 346 248 7799 US (Houston) +1 301 715 8592 US (Germantown) +1 312 626 6799 US (Chicago) +1 929 205 6099 US (New York) Meeting ID: 860 5540 9524 Password: 228698 Find your local number: https://us02web.zoom.us/u/kelvyXtOu5
UID:e.530.16499
SEQUENCE:3
DTSTAMP:20260420T195807Z
URL:https://business.poway.com/events/details/virtual-may-mixer-16499
END:VEVENT

END:VCALENDAR
