BEGIN:VCALENDAR
VERSION:2.0
PRODID:-//ChamberMaster//Event Calendar 2.0//EN
METHOD:PUBLISH
X-PUBLISHED-TTL:P3D
REFRESH-INTERVAL:P3D
CALSCALE:GREGORIAN
BEGIN:VEVENT
DTSTART:20201118T200000Z
DTEND:20201118T210000Z
X-MICROSOFT-CDO-ALLDAYEVENT:FALSE
SUMMARY:VIRTUAL Maximize Your Membership - Lunch
DESCRIPTION:Bring your lunch and find out how to use the tools the Chamber provides to help your business grow and prosper! For ALL members\, whether new or continuing! We also invite non-members to attend\, to learn more about all the Chamber has to offer.
X-ALT-DESC;FMTTYPE=text/html:Bring your lunch and find out how to use the tools the Chamber provides to help your business grow and prosper! For ALL members\, whether new or continuing! We also invite non-members to attend\, to learn more about all the Chamber has to offer.
LOCATION:This workshop will be held virtually. Join Zoom Meeting https://us02web.zoom.us/j/81899825373?pwd=RVRDNjhUODAyOHluUHFVRko4TXNRUT09 Meeting ID: 818 9982 5373 Passcode: 068660
UID:e.530.17358
SEQUENCE:3
DTSTAMP:20260420T110706Z
URL:https://business.poway.com/events/details/virtual-maximize-your-membership-lunch-17358
END:VEVENT

END:VCALENDAR
