BEGIN:VCALENDAR
VERSION:2.0
PRODID:-//ChamberMaster//Event Calendar 2.0//EN
METHOD:PUBLISH
X-PUBLISHED-TTL:P3D
REFRESH-INTERVAL:P3D
CALSCALE:GREGORIAN
BEGIN:VEVENT
DTSTART:20200902T190000Z
DTEND:20200902T200000Z
X-MICROSOFT-CDO-ALLDAYEVENT:FALSE
SUMMARY:VIRTUAL Maximize Your Membership - Lunch
DESCRIPTION:Bring your lunch and find out how to use the tools the Chamber provides to help your business grow and prosper! For ALL members\, whether new or continuing! We also invite non-members to attend\, to learn more about all the Chamber has to offer.
X-ALT-DESC;FMTTYPE=text/html:Bring your lunch and find out how to use the tools the Chamber provides to help your business grow and prosper! For ALL members\, whether new or continuing! We also invite non-members to attend\, to learn more about all the Chamber has to offer.
LOCATION:This workshop will be held virtually\, via ZOOM: https://zoom.us/j/9047901231?pwd=Zm54MDByZ0lTUkZNMTFjS3ZJd0VDZz09
UID:e.530.16512
SEQUENCE:3
DTSTAMP:20260420T134657Z
URL:https://business.poway.com/events/details/virtual-maximize-your-membership-lunch-16512
END:VEVENT

END:VCALENDAR
