BEGIN:VCALENDAR
VERSION:2.0
PRODID:-//ChamberMaster//Event Calendar 2.0//EN
METHOD:PUBLISH
X-PUBLISHED-TTL:P3D
REFRESH-INTERVAL:P3D
CALSCALE:GREGORIAN
BEGIN:VEVENT
DTSTART:20200520T190000Z
DTEND:20200520T200000Z
X-MICROSOFT-CDO-ALLDAYEVENT:FALSE
SUMMARY:VIRTUAL Maximize Your Membership - Lunch
DESCRIPTION:Bring your lunch and find out how to use the tools the Chamber provides to help your business grow and prosper! For ALL members\, whether new or continuing!
X-ALT-DESC;FMTTYPE=text/html:Bring your lunch and find out how to use the tools the Chamber provides to help your business grow and prosper! For ALL members\, whether new or continuing!&nbsp\;
LOCATION:This workshop will be held virtually\, via ZOOM: https://zoom.us/j/9047901231?pwd=Zm54MDByZ0lTUkZNMTFjS3ZJd0VDZz09
UID:e.530.16503
SEQUENCE:3
DTSTAMP:20260420T195904Z
URL:https://business.poway.com/events/details/virtual-maximize-your-membership-lunch-16503
END:VEVENT

END:VCALENDAR
