BEGIN:VCALENDAR
VERSION:2.0
PRODID:-//ChamberMaster//Event Calendar 2.0//EN
METHOD:PUBLISH
X-PUBLISHED-TTL:P3D
REFRESH-INTERVAL:P3D
CALSCALE:GREGORIAN
BEGIN:VEVENT
DTSTART:20200626T003000Z
DTEND:20200626T020000Z
X-MICROSOFT-CDO-ALLDAYEVENT:FALSE
SUMMARY:VIRTUAL June Mixer
DESCRIPTION:Join us for another virtual Mixer!  Attendees will network\, break into small discussion groups\, and members have a chance to win the Rollover Jackpot!\n\n\n\nMembers who attend have the chance to win the Rollover Jackpot which is currently at $400\, thanks to our June Rollover Sponsor\, Community Chiropractic Center.
X-ALT-DESC;FMTTYPE=text/html:Join us for another virtual Mixer!&nbsp\; Attendees will network\, break into small discussion groups\, and members have a chance to win the Rollover Jackpot!<br />\n<br />\nMembers who attend have the chance to win the Rollover Jackpot which is currently at $400\, thanks to our June Rollover Sponsor\, <a href="http://business.poway.com/list/member/community-chiropractic-center-4218">Community Chiropractic Center</a>.
LOCATION:This event will meet via ZOOM: https://zoom.us/j/9047901231?pwd=Zm54MDByZ0lTUkZNMTFjS3ZJd0VDZz09
UID:e.530.16500
SEQUENCE:3
DTSTAMP:20260420T183015Z
URL:https://business.poway.com/events/details/virtual-june-mixer-16500
END:VEVENT

END:VCALENDAR
