BEGIN:VCALENDAR
VERSION:2.0
PRODID:-//ChamberMaster//Event Calendar 2.0//EN
METHOD:PUBLISH
X-PUBLISHED-TTL:P3D
REFRESH-INTERVAL:P3D
CALSCALE:GREGORIAN
BEGIN:VEVENT
DTSTART:20200724T003000Z
DTEND:20200724T020000Z
X-MICROSOFT-CDO-ALLDAYEVENT:FALSE
SUMMARY:VIRTUAL July Mixer
DESCRIPTION:Join us for another Virtual Mixer!  Attendees will network\, break into small discussion groups\, and members have a chance to win the Rollover Jackpot!\n\n\n\nMembers who attend have the chance to win the Rollover Jackpot which is currently at $100\, thanks to our July Rollover Sponsor\, San Diego Laser Fat Loss.
X-ALT-DESC;FMTTYPE=text/html:Join us for another Virtual Mixer!&nbsp\; Attendees will network\, break into small discussion groups\, and members have a chance to win the Rollover Jackpot!<br />\n<br />\nMembers who attend have the chance to win the Rollover Jackpot which is currently at $100\, thanks to our July Rollover Sponsor\, San Diego Laser Fat Loss.&nbsp\;
LOCATION:This event will meet via ZOOM: https://zoom.us/j/9047901231?pwd=Zm54MDByZ0lTUkZNMTFjS3ZJd0VDZz09
UID:e.530.16507
SEQUENCE:3
DTSTAMP:20260420T164652Z
URL:https://business.poway.com/events/details/virtual-july-mixer-16507
END:VEVENT

END:VCALENDAR
