BEGIN:VCALENDAR
VERSION:2.0
PRODID:-//ChamberMaster//Event Calendar 2.0//EN
METHOD:PUBLISH
X-PUBLISHED-TTL:P3D
REFRESH-INTERVAL:P3D
CALSCALE:GREGORIAN
BEGIN:VEVENT
DTSTART;VALUE=DATE:20210122
DTEND;VALUE=DATE:20210123
TRANSP:TRANSPARENT
X-MICROSOFT-CDO-ALLDAYEVENT:TRUE
SUMMARY:Virtual Happy Hour!
DESCRIPTION:Join us for this fun virtual happy hour! Bring a drink and pull up your screen\, network\, mingle and kick off the weekend with your fellow Chamber members.
X-ALT-DESC;FMTTYPE=text/html:Join us for this fun virtual happy hour! Bring a drink and pull up your screen\, network\, mingle and kick off the weekend with your fellow Chamber members.
LOCATION:https://us02web.zoom.us/j/88069757280?pwd=bTdJaHFEZklSa0VEbmQ0Yms4RE9TQT09
UID:e.530.18108
SEQUENCE:3
DTSTAMP:20260420T074100Z
URL:https://business.poway.com/events/details/virtual-happy-hour-18108
END:VEVENT

END:VCALENDAR
