BEGIN:VCALENDAR
VERSION:2.0
PRODID:-//ChamberMaster//Event Calendar 2.0//EN
METHOD:PUBLISH
X-PUBLISHED-TTL:P3D
REFRESH-INTERVAL:P3D
CALSCALE:GREGORIAN
BEGIN:VEVENT
DTSTART:20200411T003000Z
DTEND:20200411T013000Z
X-MICROSOFT-CDO-ALLDAYEVENT:FALSE
SUMMARY:Virtual Happy Hour!
DESCRIPTION:Back by popular demand!  \n\n\n\nJoin us for another fun VIRTUAL Happy Hour.  Bring your smile and your favorite beverage and join us here:\n\n \nTime: Apr 10\, 2020 05:30 PM Pacific Time (US and Canada)\n\nJoin Zoom Meeting\n\nhttps://us04web.zoom.us/j/5954456429\n\nMeeting ID: 595 445 6429
X-ALT-DESC;FMTTYPE=text/html:Back by popular demand! &nbsp\;<br />\n<br />\nJoin us for another fun VIRTUAL Happy Hour. &nbsp\;Bring your smile and your favorite beverage and join us here:<br />\n&nbsp\;\n<div style="caret-color: rgb(34\, 34\, 34)\; color: rgb(34\, 34\, 34)\; font-family: Arial\, Helvetica\, sans-serif\;">Time: Apr 10\, 2020 05:30 PM Pacific Time (US and Canada)</div>\n\n<div style="caret-color: rgb(34\, 34\, 34)\; color: rgb(34\, 34\, 34)\; font-family: Arial\, Helvetica\, sans-serif\;">Join Zoom Meeting<br />\n<a data-saferedirecturl="https://www.google.com/url?q=https://us04web.zoom.us/j/5954456429&amp\;source=gmail&amp\;ust=1586368317245000&amp\;usg=AFQjCNG4ieRCIjJXJ4JNLaj0g27lxyhAkw" href="https://us04web.zoom.us/j/5954456429" style="color: rgb(17\, 85\, 204)\;" target="_blank">https://us04web.zoom.us/j/<wbr />5954456429</a></div>\n\n<div style="caret-color: rgb(34\, 34\, 34)\; color: rgb(34\, 34\, 34)\; font-family: Arial\, Helvetica\, sans-serif\;">Meeting ID: 595 445 6429</div>\n&nbsp\;
LOCATION:
UID:e.530.16494
SEQUENCE:3
DTSTAMP:20260420T210607Z
URL:https://business.poway.com/events/details/virtual-happy-hour-16494
END:VEVENT

END:VCALENDAR
