BEGIN:VCALENDAR
VERSION:2.0
PRODID:-//ChamberMaster//Event Calendar 2.0//EN
METHOD:PUBLISH
X-PUBLISHED-TTL:P3D
REFRESH-INTERVAL:P3D
CALSCALE:GREGORIAN
BEGIN:VEVENT
DTSTART:20200404T000000Z
DTEND:20200404T010000Z
X-MICROSOFT-CDO-ALLDAYEVENT:FALSE
SUMMARY:Virtual Happy Hour!
DESCRIPTION:It's Happy Hour! Let's have some fun\, dress up\, dress down?\n\n\n\nBring a drink and join us wherever you are. Don't forget your favorite Beverage!  We might as well make the best of our current environment!\n\n\n\nChamber Member?  Great!  Not a Chamber Member?  That's fine too\; let's make this a huge party!\n\n\n\nJoin us here: https://us04web.zoom.us/j/5954456429
X-ALT-DESC;FMTTYPE=text/html:<p style="margin: 0px 0px 6px\; font-family: system-ui\, -apple-system\, BlinkMacSystemFont\, &quot\;.SFNSText-Regular&quot\;\, sans-serif\; caret-color: rgb(29\, 33\, 41)\; color: rgb(29\, 33\, 41)\; font-size: 14px\;">It&#39\;s Happy Hour! Let&#39\;s have some fun\, dress up\, dress down?<br />\n<br />\nBring a drink and join us&nbsp\;wherever you are. Don&#39\;t forget your favorite Beverage! &nbsp\;We might as well make the best of our current environment!<br />\n<br />\nChamber Member? &nbsp\;Great!&nbsp\; Not&nbsp\;a Chamber Member? &nbsp\;That&#39\;s fine too\;&nbsp\;let&#39\;s make this a huge party!<br />\n<br />\nJoin us here:&nbsp\;<a data-ft="{&quot\;tn&quot\;:&quot\;-U&quot\;}" data-lynx-mode="origin" data-lynx-uri="https://l.facebook.com/l.php?u=https%3A%2F%2Fus04web.zoom.us%2Fj%2F5954456429%3Ffbclid%3DIwAR07RvMXige-DVFp_8L4dct9l_xJwDdkHNhmzLg17_CMOe4pTrrfIrXX1oo&amp\;h=AT2JFtFeiHejySxCqcQzhNJdVujcwIf18cKQtbG-LWVfIh3DDdr2jCHHPwfWB09J_05Y9IMvivnF-9d3d4zXRc_LSgJq7TrquJBFd0Sse1963oKHTHExby55LbSmNATPSXNXfJMaR_oucUZ_8NWNGIbl-2vikQy9w2JD31330l89MlphPvc" href="https://us04web.zoom.us/j/5954456429?fbclid=IwAR07RvMXige-DVFp_8L4dct9l_xJwDdkHNhmzLg17_CMOe4pTrrfIrXX1oo" rel="noopener nofollow" style="color: rgb(56\, 88\, 152)\; cursor: pointer\; text-decoration: none\; font-family: system-ui\, -apple-system\, BlinkMacSystemFont\, &quot\;.SFNSText-Regular&quot\;\, sans-serif\; font-size: 14px\;" target="_blank">https://us04web.zoom.us/j/5954456429</a></p>\n
LOCATION:
UID:e.530.16493
SEQUENCE:3
DTSTAMP:20260420T210608Z
URL:https://business.poway.com/events/details/virtual-happy-hour-16493
END:VEVENT

END:VCALENDAR
