BEGIN:VCALENDAR
VERSION:2.0
PRODID:-//ChamberMaster//Event Calendar 2.0//EN
METHOD:PUBLISH
X-PUBLISHED-TTL:P3D
REFRESH-INTERVAL:P3D
CALSCALE:GREGORIAN
BEGIN:VEVENT
DTSTART:20200526T140000Z
DTEND:20200526T153000Z
X-MICROSOFT-CDO-ALLDAYEVENT:FALSE
SUMMARY:VIRTUAL Connections Group
DESCRIPTION:Connections Group
X-ALT-DESC;FMTTYPE=text/html:Connections Group
LOCATION:Join us via Zoom: https://zoom.us/j/9047901231?pwd=Zm54MDByZ0lTUkZNMTFjS3ZJd0VDZz09
UID:e.530.10576
SEQUENCE:3
DTSTAMP:20260420T200021Z
URL:https://business.poway.com/events/details/virtual-connections-group-05-26-2020-10576
END:VEVENT

END:VCALENDAR
