BEGIN:VCALENDAR
VERSION:2.0
PRODID:-//ChamberMaster//Event Calendar 2.0//EN
METHOD:PUBLISH
X-PUBLISHED-TTL:P3D
REFRESH-INTERVAL:P3D
CALSCALE:GREGORIAN
BEGIN:VEVENT
DTSTART:20200428T150000Z
DTEND:20200428T160000Z
X-MICROSOFT-CDO-ALLDAYEVENT:FALSE
SUMMARY:VIRTUAL Connections Group
DESCRIPTION:Join us for a VIRTUAL Connections Group!\n\n\n\nHere are the login details:\n\n \nTime: Apr 28\, 2020 08:00 AM Pacific Time (US and Canada)\n\nJoin Zoom Meeting\n\nhttps://us04web.zoom.us/j/562493882?pwd=U0UxUzNPMVV3VGkxdHlyS1NUNTFtUT09\n\nMeeting ID: 562 493 882\n\nPassword: 396059
X-ALT-DESC;FMTTYPE=text/html:Join us for a VIRTUAL Connections Group!<br />\n<br />\nHere are the login details:<br />\n&nbsp\;\n<div style="caret-color: rgb(34\, 34\, 34)\; color: rgb(34\, 34\, 34)\; font-family: Arial\, Helvetica\, sans-serif\;"><b>Time: Apr 28\, 2020 08:00 AM Pacific Time (US and Canada)</b></div>\n\n<div style="caret-color: rgb(34\, 34\, 34)\; color: rgb(34\, 34\, 34)\; font-family: Arial\, Helvetica\, sans-serif\;"><b>Join Zoom Meeting<br />\n<a data-saferedirecturl="https://www.google.com/url?q=https://us04web.zoom.us/j/562493882?pwd%3DU0UxUzNPMVV3VGkxdHlyS1NUNTFtUT09&amp\;source=gmail&amp\;ust=1586286606253000&amp\;usg=AFQjCNGslrEaJqboI04RPasHbkIazw33Rg" href="https://us04web.zoom.us/j/562493882?pwd=U0UxUzNPMVV3VGkxdHlyS1NUNTFtUT09" style="color: rgb(17\, 85\, 204)\;" target="_blank">https://us04web.zoom.us/j/<wbr />562493882?pwd=<wbr />U0UxUzNPMVV3VGkxdHlyS1NUNTFtUT<wbr />09</a></b></div>\n\n<div style="caret-color: rgb(34\, 34\, 34)\; color: rgb(34\, 34\, 34)\; font-family: Arial\, Helvetica\, sans-serif\;"><b>Meeting ID: 562 493 882<br />\nPassword: 396059</b></div>\n
LOCATION:
UID:e.530.10575
SEQUENCE:3
DTSTAMP:20260420T224206Z
URL:https://business.poway.com/events/details/virtual-connections-group-04-28-2020-10575
END:VEVENT

END:VCALENDAR
