BEGIN:VCALENDAR
VERSION:2.0
PRODID:-//ChamberMaster//Event Calendar 2.0//EN
METHOD:PUBLISH
X-PUBLISHED-TTL:P3D
REFRESH-INTERVAL:P3D
CALSCALE:GREGORIAN
BEGIN:VEVENT
DTSTART:20200828T003000Z
DTEND:20200828T020000Z
X-MICROSOFT-CDO-ALLDAYEVENT:FALSE
SUMMARY:VIRTUAL August Mixer
DESCRIPTION:Join us for another Virtual Mixer!  Attendees will network\, break into small discussion groups\, and members have a chance to win the Rollover Jackpot\, now at $200!\n\n\n\nThis month's Rollover Jackpot is sponsored by Clearent!
X-ALT-DESC;FMTTYPE=text/html:Join us for another Virtual Mixer!&nbsp\; Attendees will network\, break into small discussion groups\, and members have a chance to win the Rollover Jackpot\, now at $200!<br />\n<br />\nThis month&#39\;s Rollover Jackpot is sponsored by <a href="http://business.poway.com/list/member/clearent-10284">Clearent</a>!
LOCATION:This event will meet via ZOOM: https://zoom.us/j/9047901231?pwd=Zm54MDByZ0lTUkZNMTFjS3ZJd0VDZz09
UID:e.530.16509
SEQUENCE:3
DTSTAMP:20260420T151203Z
URL:https://business.poway.com/events/details/virtual-august-mixer-16509
END:VEVENT

END:VCALENDAR
