BEGIN:VCALENDAR
VERSION:2.0
PRODID:-//ChamberMaster//Event Calendar 2.0//EN
METHOD:PUBLISH
X-PUBLISHED-TTL:P3D
REFRESH-INTERVAL:P3D
CALSCALE:GREGORIAN
BEGIN:VEVENT
DTSTART:20200421T143000Z
DTEND:20200421T153000Z
X-MICROSOFT-CDO-ALLDAYEVENT:FALSE
SUMMARY:VIRTUAL Ambassadors Meeting
DESCRIPTION:Serves as liaisons with Chamber members\, for the Mixers\, Ribbon Cuttings and special events. Committee Chair Paul Eisan\, Seismic Signs\, (858) 243-1277.\n\n\n\n***Chamber Members Only***
X-ALT-DESC;FMTTYPE=text/html:Serves as liaisons with Chamber members\, for the Mixers\, Ribbon Cuttings and special events. Committee Chair Paul Eisan\, Seismic Signs\,&nbsp\;(858) 243-1277.<br />\n<br />\n***Chamber Members Only***
LOCATION:This will be a virtual meeting Join Zoom Meeting https://us02web.zoom.us/j/87171504014?pwd=MkVwS0ExWUZEQzVtR3E0Rnd6RHE4QT09 Meeting ID: 871 7150 4014 Password: 709795
UID:e.530.2838
SEQUENCE:3
DTSTAMP:20260420T210651Z
URL:https://business.poway.com/events/details/virtual-ambassadors-meeting-2838
END:VEVENT

END:VCALENDAR
