BEGIN:VCALENDAR
VERSION:2.0
PRODID:-//ChamberMaster//Event Calendar 2.0//EN
METHOD:PUBLISH
X-PUBLISHED-TTL:P3D
REFRESH-INTERVAL:P3D
CALSCALE:GREGORIAN
BEGIN:VEVENT
DTSTART:20220404T020000Z
DTEND:20220404T033000Z
X-MICROSOFT-CDO-ALLDAYEVENT:FALSE
SUMMARY:Velocity Irish Dance
DESCRIPTION:Velocity Irish Dance is the next generation in Irish tap. Honoring past traditions yet transporting them feet-first into the 21st century\, Velocity Irish Dance redefines the idea of what an Irish dance show should be. This high-octane interpretation is expressive\, free spirited\, and edgy\, driven by passion and pride. Velocity Irish Dance is led by Guinness World Record holder for The Fastest Feet in the World\, James Devine\, and five-time World Champion Irish dancer\, David Geaney. These two illustrious Irish hoofers come together in an intimate\, no-nonsense jam session of impossible scuffles\, shuffles and every step in between.\n\nThey're joined on stage by a crew of mind-blowing musicians including one old school scratch DJ. Described by The New York Times as an "energetic intimate history lesson\, more than a sequined spectacular\, Velocity Irish Dance is a multimedia show for all ages\, earnestly tracing the evolution of Irish dance while toying with tradition." Velocity Irish Dance delivers on the promise of its name\, staging a riveting\, fast-paced celebration of the past\, present and future of Irish dance.
X-ALT-DESC;FMTTYPE=text/html:<p><strong>Velocity Irish Dance</strong>&nbsp\;is the next generation in Irish tap. Honoring past traditions yet transporting them feet-first into the 21st century\, Velocity Irish Dance redefines the idea of what an Irish dance show should be. This high-octane interpretation is expressive\, free spirited\, and edgy\, driven by passion and pride. Velocity Irish Dance is led by Guinness World Record holder for The Fastest Feet in the World\, James Devine\, and five-time World Champion Irish dancer\, David Geaney. These two illustrious Irish hoofers come together in an intimate\, no-nonsense jam session of impossible scuffles\, shuffles and every step in between.</p>\n\n<p>They&rsquo\;re joined on stage by a crew of mind-blowing musicians including one old school scratch DJ. Described by&nbsp\;<em>The New York Times</em>&nbsp\;as an &ldquo\;energetic intimate history lesson\, more than a sequined spectacular\, Velocity Irish Dance is a multimedia show for all ages\, earnestly tracing the evolution of Irish dance while toying with tradition.&rdquo\; Velocity Irish Dance delivers on the promise of its name\, staging a riveting\, fast-paced celebration of the past\, present and future of Irish dance.</p>\n
LOCATION:The Poway Center for the Performing Arts 15498 Espola Rd. Poway\, CA 92064
UID:e.530.19872
SEQUENCE:3
DTSTAMP:20260420T024058Z
URL:https://business.poway.com/events/details/velocity-irish-dance-19872
END:VEVENT

END:VCALENDAR
