BEGIN:VCALENDAR
VERSION:2.0
PRODID:-//ChamberMaster//Event Calendar 2.0//EN
METHOD:PUBLISH
X-PUBLISHED-TTL:P3D
REFRESH-INTERVAL:P3D
CALSCALE:GREGORIAN
BEGIN:VEVENT
DTSTART:20200116T010000Z
DTEND:20200116T030000Z
X-MICROSOFT-CDO-ALLDAYEVENT:FALSE
SUMMARY:Updated Date- Ribbon Cutting Sportsplex
DESCRIPTION:Join us for a ribbon cutting for Sport Clips Arena on Wednesday\, January 15th at 5:00pm. This event will take place at Sportsplex USA located at 12349 McIvers Ct.\, Poway 92064. Following the ribbon cutting\, Sportsplex USA will host complimentary beverages and appetizers in the pub. The ribbon cutting ceremony is open to the public and all local business leaders are encouraged to attend.
X-ALT-DESC;FMTTYPE=text/html:Join us for a ribbon cutting for Sport Clips Arena on Wednesday\, January 15th at 5:00pm. This event will take place at Sportsplex USA located at 12349 McIvers Ct.\, Poway 92064. Following the ribbon cutting\, Sportsplex USA will host complimentary beverages and appetizers in the pub. The ribbon cutting ceremony is open to the public and all local business leaders are encouraged to attend.
LOCATION:Sportsplex 12349 McIvers Court Poway\, CA 92064
UID:e.530.16301
SEQUENCE:3
DTSTAMP:20260421T015042Z
URL:https://business.poway.com/events/details/updated-date-ribbon-cutting-sportsplex-16301
END:VEVENT

END:VCALENDAR
