BEGIN:VCALENDAR
VERSION:2.0
PRODID:-//ChamberMaster//Event Calendar 2.0//EN
METHOD:PUBLISH
X-PUBLISHED-TTL:P3D
REFRESH-INTERVAL:P3D
CALSCALE:GREGORIAN
BEGIN:VEVENT
DTSTART:20261024T223000Z
DTEND:20261025T033000Z
X-MICROSOFT-CDO-ALLDAYEVENT:FALSE
SUMMARY:Trunk-or-Treat!
DESCRIPTION:As a Poway Chamber of Commerce Member\, you are invited to participate in a free\, fun opportunity to connect directly with the local community at the City of Poway's popular community event\, "Once Upon A Halloween".\n\n\n\nThe Poway Chamber is partnering with the City of Poway to host this free\, family-focused street event "Trunk-or-Treat".   Your business or non-profit will have face-to-face connection with our community to distribute candy and connect directly with families who patron our community.  Vendor vehicle spaces are no-charge.\n\nVendor parking spaces are limited so please apply now. \n\n\n\nThe application to be a vendor is free and can be downloaded HERE.   \n\nSubmit completed applications to Oldpowaypark@poway.org by September 18 \, 2026\n\n\n\nContact lara@poway.com for more information on participating as a vendor. \n\n\n\nFor more information about the main event in the park "Once Upon A Halloween"\, please see the city of Poway's website HERE.
X-ALT-DESC;FMTTYPE=text/html:As a Poway Chamber of Commerce Member\, you are invited to participate in a free\, fun opportunity to connect <em>directly</em> with the local community at the City of Poway&rsquo\;s popular community event\, &quot\;Once Upon A Halloween&rdquo\;.<br />\n<br />\nThe Poway Chamber is partnering with the City of Poway to host this free\, family-focused street event <strong>&ldquo\;Trunk-or-Treat&rdquo\;.</strong>&nbsp\; &nbsp\;Your business or non-profit will have face-to-face connection with our community to distribute candy and connect directly with families who patron our community.&nbsp\; Vendor vehicle spaces are no-charge.<br />\nVendor parking spaces are limited so please apply now.&nbsp\;<br />\n<br />\nThe application to be a vendor is free and can be downloaded <a href="https://drive.google.com/file/d/1xrtBoeTf3T1CwexgKjoSw8sWebZh6Lz3/view?usp=sharing"><strong>HERE</strong></a>.&nbsp\; &nbsp\;<br />\nSubmit completed applications to <span style="color:#0000FF\;"><strong>Oldpowaypark@poway.org </strong></span>by <span style="color:#B22222\;"><strong>September 18 \, 2026</strong></span><br />\n<br />\nContact<strong> <span style="color:#0000FF\;">lara@poway.com</span> </strong>for more information on participating as a vendor.&nbsp\;<br />\n<br />\nFor more information about the main event in the park &quot\;Once Upon A Halloween&quot\;\, please see the city of Poway&#39\;s website <strong><a href="https://poway.org/Calendar.aspx?EID=5346&amp\;month=10&amp\;year=2026&amp\;day=24&amp\;calType=0">HERE</a></strong>.&nbsp\;
LOCATION:Open to Poway-based businesses/non-profits or businesses/non-profits serving the Poway community Interested in our Costume Parade? Email us at Oldpowaypark@poway.org
UID:e.530.24985
SEQUENCE:3
DTSTAMP:20260420T101923Z
URL:https://business.poway.com/events/details/trunk-or-treat-24985
END:VEVENT

END:VCALENDAR
