BEGIN:VCALENDAR
VERSION:2.0
PRODID:-//ChamberMaster//Event Calendar 2.0//EN
METHOD:PUBLISH
X-PUBLISHED-TTL:P3D
REFRESH-INTERVAL:P3D
CALSCALE:GREGORIAN
BEGIN:VEVENT
DTSTART:20191215T230000Z
DTEND:20191216T013000Z
X-MICROSOFT-CDO-ALLDAYEVENT:FALSE
SUMMARY:Trivia Night with Jess
DESCRIPTION:Here are the rules: Max. 6 players per team. You are allowed to: split up\; be loud\; be happy\; be silly\, be fun\, be crazy\, be weird...but the most important: BE YOU and enjoy with your friends a fantastic night in a great atmosphere and always BETTER whit WINE.
X-ALT-DESC;FMTTYPE=text/html:Here are the rules: Max. 6 players per team. You are allowed to: split up\; be loud\; be happy\; be silly\, be fun\, be crazy\, be weird...but the most important: BE YOU and enjoy with your friends a fantastic night in a great atmosphere and always BETTER whit WINE.
LOCATION:Mission Cellars Winery 14053 Midland Rd. Poway CA 92064
UID:e.530.16318
SEQUENCE:3
DTSTAMP:20260421T043812Z
URL:https://business.poway.com/events/details/trivia-night-with-jess-16318
END:VEVENT

END:VCALENDAR
