BEGIN:VCALENDAR
VERSION:2.0
PRODID:-//ChamberMaster//Event Calendar 2.0//EN
METHOD:PUBLISH
X-PUBLISHED-TTL:P3D
REFRESH-INTERVAL:P3D
CALSCALE:GREGORIAN
BEGIN:VEVENT
DTSTART:20250325T230000Z
DTEND:20250326T010000Z
X-MICROSOFT-CDO-ALLDAYEVENT:FALSE
SUMMARY:Trivia Night to Raise Money for the Alzheimer's Association
DESCRIPTION:Test your knowledge\, compete for prizes\, and enjoy great food and drinks all for a great cause. Trivia kicks off at 4:30 PM\, and the top winners will take home exciting prizes! Plus\, 15% of all food and drink orders (including to-go orders) will be donated to the Alzheimer's Association when you show this flyer or a digital picture. Every dollar raised helps fund research\, support\, and care for those affected by Alzheimer's.\n\n\n\nOrganized by Oasis Senior Advisors
X-ALT-DESC;FMTTYPE=text/html:Test your knowledge\, compete for prizes\, and enjoy great food and drinks&mdash\;all for a great cause. Trivia kicks off at 4:30 PM\, and the top winners will take home exciting prizes! Plus\, 15% of all food and drink orders (including to-go orders) will be donated to the Alzheimer&#39\;s Association when you show this flyer or a digital picture. <em><strong>Every dollar raised helps fund research\, support\, and care for those affected by Alzheimer&#39\;s.</strong></em><br />\n<br />\nOrganized by <a href="https://business.poway.com/list/member/oasis-senior-advisors-14115">Oasis Senior Advisors</a>
LOCATION:The Knotty Barrel:13211 Black Mountain Rd\, San Diego\, CA 92129
UID:e.530.23355
SEQUENCE:3
DTSTAMP:20260420T085055Z
URL:https://business.poway.com/events/details/trivia-night-to-raise-money-for-the-alzheimer-s-association-23355
END:VEVENT

END:VCALENDAR
