BEGIN:VCALENDAR
VERSION:2.0
PRODID:-//ChamberMaster//Event Calendar 2.0//EN
METHOD:PUBLISH
X-PUBLISHED-TTL:P3D
REFRESH-INTERVAL:P3D
CALSCALE:GREGORIAN
BEGIN:VEVENT
DTSTART:20210511T220000Z
DTEND:20210511T223000Z
X-MICROSOFT-CDO-ALLDAYEVENT:FALSE
SUMMARY:Tobacco Tuesday Takeover with the American Lung Association
DESCRIPTION:Join us next Tuesday\, May 11 at 3:00pm PST\, for  a Tobacco Tuesday Takeover. The American Lung Association\, Pierra Moise and Loralee Olejnik\, will be taking over Tobacco Tuesday! We will give some insight on the work we are doing in Poway to combat secondhand smoke and our special guest\, Janan Moein\, a young vaping prevention advocate who survived EVALI. EVALI stands for e-cigarette or vaping use-associated lung injury (American Lung Association\, 2021). Janan has been featured in the New York Times\, sharing his story in the connection of COVID-19 and vaping.
X-ALT-DESC;FMTTYPE=text/html:Join us next Tuesday\, May 11 at 3:00pm PST\, for&nbsp\; a Tobacco Tuesday Takeover. The American Lung Association\, Pierra Moise and Loralee Olejnik\, will be taking over Tobacco Tuesday! We will give some insight on the work we are doing in Poway to combat secondhand smoke and our special guest\, Janan Moein\, a young vaping prevention advocate who survived EVALI. EVALI stands for e-cigarette or vaping use-associated lung injury (American Lung Association\, 2021). Janan has been featured in the New York Times\, sharing his story in the connection of COVID-19 and vaping.&nbsp\;
LOCATION:www.sdfnl.net/live
UID:e.530.18728
SEQUENCE:3
DTSTAMP:20260420T010552Z
URL:https://business.poway.com/events/details/tobacco-tuesday-takeover-with-the-american-lung-association-18728
END:VEVENT

END:VCALENDAR
