BEGIN:VCALENDAR
VERSION:2.0
PRODID:-//ChamberMaster//Event Calendar 2.0//EN
METHOD:PUBLISH
X-PUBLISHED-TTL:P3D
REFRESH-INTERVAL:P3D
CALSCALE:GREGORIAN
BEGIN:VEVENT
DTSTART:20251207T033000Z
DTEND:20251207T053000Z
X-MICROSOFT-CDO-ALLDAYEVENT:FALSE
SUMMARY:The Ugly Seasonal Sweater Soiree
DESCRIPTION:The Ugly Seasonal Sweater Soir e: Holiday Hits in Horrible Knits is a hilariously festive\, one-of-a-kind holiday celebration for the whole family! It's a joyful mix of everything we love about the season   heartwarming traditions\, timeless holiday tunes\, and the gloriously tacky sweaters that make December sparkle just a little brighter.
X-ALT-DESC;FMTTYPE=text/html:The Ugly Seasonal Sweater Soir&eacute\;e: Holiday Hits in Horrible Knits is a hilariously festive\, one-of-a-kind holiday celebration for the whole family! It&rsquo\;s a joyful mix of everything we love about the season &mdash\; heartwarming traditions\, timeless holiday tunes\, and the gloriously tacky sweaters that make December sparkle just a little brighter.
LOCATION:Poway Center for the Performing Arts
UID:e.530.24046
SEQUENCE:3
DTSTAMP:20260420T215339Z
URL:https://business.poway.com/events/details/the-ugly-seasonal-sweater-soiree-12-06-2025-24046
END:VEVENT

END:VCALENDAR
