BEGIN:VCALENDAR
VERSION:2.0
PRODID:-//ChamberMaster//Event Calendar 2.0//EN
METHOD:PUBLISH
X-PUBLISHED-TTL:P3D
REFRESH-INTERVAL:P3D
CALSCALE:GREGORIAN
BEGIN:VEVENT
DTSTART:20201015T020000Z
DTEND:20201029T020000Z
X-MICROSOFT-CDO-ALLDAYEVENT:FALSE
SUMMARY:Steve Poltz: Quarantine Blues
DESCRIPTION:Poway OnStage favorite Steve Poltz performs "Quarantine Blues\," an exclusive live show taped on stage at the Poway Center for the Performing Arts.  Bring into your home all the wit\, charm and musicality that has made Steve's live shows must-see events at the PCPA.  Your ticket gives you access to the concert for two weeks beginning Oct 14 at 7PM.\n\nThis is an all-new show featuring many never-before-heard songs!\n\nADD a meet-and-greet with Steve Poltz for just $10.  A limited number of people will Zoom live with Steve at 5:30PM on October 14.\n\nSeveral ticket packages to choose from!  For details and tickets visit:\n\nhttps://www.powayonstage.org/event/steve-poltz-quarantine-blues/
X-ALT-DESC;FMTTYPE=text/html:<p>Poway OnStage favorite&nbsp\;<strong>Steve Poltz</strong>&nbsp\;performs &ldquo\;Quarantine Blues\,&rdquo\; an exclusive live show taped on stage at the Poway Center for the Performing Arts.&nbsp\; Bring into your home all the wit\, charm and musicality that has made Steve&rsquo\;s live shows must-see events at the PCPA.&nbsp\; Your ticket gives you access to the concert for two weeks beginning Oct 14 at 7PM.</p>\n\n<p>This is an&nbsp\;<strong>all-new show</strong>&nbsp\;featuring many&nbsp\;<strong>never-before-heard songs!</strong></p>\n\n<p><strong>ADD a meet-and-greet with Steve Poltz</strong>&nbsp\;for just $10.&nbsp\; A limited number of people will Zoom live with Steve at 5:30PM on October 14.</p>\n\n<p><strong>Several ticket packages to choose from!&nbsp\; For details and tickets visit:<br />\nhttps://www.powayonstage.org/event/steve-poltz-quarantine-blues/</strong></p>\n
LOCATION:Online Event
UID:e.530.17437
SEQUENCE:3
DTSTAMP:20260420T124636Z
URL:https://business.poway.com/events/details/steve-poltz-quarantine-blues-17437
END:VEVENT

END:VCALENDAR
