BEGIN:VCALENDAR
VERSION:2.0
PRODID:-//ChamberMaster//Event Calendar 2.0//EN
METHOD:PUBLISH
X-PUBLISHED-TTL:P3D
REFRESH-INTERVAL:P3D
CALSCALE:GREGORIAN
BEGIN:VEVENT
DTSTART:20220423T160000Z
DTEND:20220423T210000Z
X-MICROSOFT-CDO-ALLDAYEVENT:FALSE
SUMMARY:Show Me the Money!
DESCRIPTION:Please see attached for details\; registration is required.
X-ALT-DESC;FMTTYPE=text/html:Please see attached for details\; registration is required.
LOCATION:
UID:e.530.20565
SEQUENCE:3
DTSTAMP:20260420T024343Z
URL:https://business.poway.com/events/details/show-me-the-money-20565
END:VEVENT

END:VCALENDAR
