BEGIN:VCALENDAR
VERSION:2.0
PRODID:-//ChamberMaster//Event Calendar 2.0//EN
METHOD:PUBLISH
X-PUBLISHED-TTL:P3D
REFRESH-INTERVAL:P3D
CALSCALE:GREGORIAN
BEGIN:VEVENT
DTSTART:20200111T170000Z
DTEND:20200112T060000Z
X-MICROSOFT-CDO-ALLDAYEVENT:FALSE
SUMMARY:Sharkey's Cuts for Kids Ribbon Cutting
DESCRIPTION:Sharkey's Cuts for Kids is a unique haircut experience for kids.  Their warm\, experienced staff bring a fun and exciting\, enjoyable environment with great haircuts to everyone.  The Grand Opening party will have entertainment such as a balloon artist\, music\, snacks\, drinks\, giveaways and raffles.  Come join us at Sharkey's cuts for Kids where "Haircuts are cool and fun rules!"
X-ALT-DESC;FMTTYPE=text/html:Sharkey&#39\;s Cuts for Kids is a unique haircut experience for kids.&nbsp\; Their warm\, experienced staff bring a fun and exciting\, enjoyable environment with great haircuts to everyone.&nbsp\; The Grand Opening party will have entertainment such as a balloon artist\, music\, snacks\, drinks\, giveaways and raffles.&nbsp\; Come join us at Sharkey&#39\;s cuts for Kids where &quot\;Haircuts are cool and fun rules!&quot\;
LOCATION:Sharkey's Cuts for Kids 12202 Poway Rd Ste A102 Poway CA 92064
UID:e.530.16465
SEQUENCE:3
DTSTAMP:20260421T014444Z
URL:https://business.poway.com/events/details/sharkey-s-cuts-for-kids-ribbon-cutting-16465
END:VEVENT

END:VCALENDAR
