BEGIN:VCALENDAR
VERSION:2.0
PRODID:-//ChamberMaster//Event Calendar 2.0//EN
METHOD:PUBLISH
X-PUBLISHED-TTL:P3D
REFRESH-INTERVAL:P3D
CALSCALE:GREGORIAN
BEGIN:VEVENT
DTSTART;VALUE=DATE:20201024
DTEND;VALUE=DATE:20201026
TRANSP:TRANSPARENT
X-MICROSOFT-CDO-ALLDAYEVENT:TRUE
SUMMARY:ScareTober 2020 Collectors Estate Auction
DESCRIPTION:Area 51 Martian\, Baseball Cards\, Antique Store\, Rare Finds\, Misc To get upcoming auctions\, text ncauctions to 77222. Email or text with questions (619) 787-4906 casey@northcountyauctions.com
X-ALT-DESC;FMTTYPE=text/html:<span style="color: rgb(34\, 34\, 34)\; font-family: Arial\, Helvetica\, sans-serif\; font-size: small\;">Area 51 Martian\, Baseball Cards\, Antique Store\, Rare Finds\, Misc To get upcoming auctions\, text ncauctions to 77222. Email or text with questions (619) 787-4906&nbsp\;</span><a href="mailto:casey@northcountyauctions.com" style="color: rgb(17\, 85\, 204)\; font-family: Arial\, Helvetica\, sans-serif\; font-size: small\;" target="_blank">casey@northcountyauctions.com</a><span style="color: rgb(34\, 34\, 34)\; font-family: Arial\, Helvetica\, sans-serif\; font-size: small\;">&nbsp\;</span><wbr style="color: rgb(34\, 34\, 34)\; font-family: Arial\, Helvetica\, sans-serif\; font-size: small\;" /><span style="color: rgb(34\, 34\, 34)\; font-family: Arial\, Helvetica\, sans-serif\; font-size: small\;">&nbsp\;</span>
LOCATION:
UID:e.530.17446
SEQUENCE:3
DTSTAMP:20260420T125319Z
URL:https://business.poway.com/events/details/scaretober-2020-collectors-estate-auction-17446
END:VEVENT

END:VCALENDAR
