BEGIN:VCALENDAR
VERSION:2.0
PRODID:-//ChamberMaster//Event Calendar 2.0//EN
METHOD:PUBLISH
X-PUBLISHED-TTL:P3D
REFRESH-INTERVAL:P3D
CALSCALE:GREGORIAN
BEGIN:VEVENT
DTSTART:20201009T003000Z
DTEND:20201009T013000Z
X-MICROSOFT-CDO-ALLDAYEVENT:FALSE
SUMMARY:San Diego/East County Chamber Oktoberfest Free Virtual Mixer
DESCRIPTION:JOIN THE EAST COUNTY CHAMBERS OF COMMERCE FOR A FREE OKTOBERFEST MIXER. GREAT PRIZES\, GUEST APPEARANCES FROM BREWERIES AND DRESS UP IN YOUR FAVORITE OKTOBERFEST ATTIRE FOR THE BEST ATTIRE CONTEST!!!\n\nRegister for free here: https://zoom.us/meeting/register/tJUudOCprTosG9DiJMHRJInUYb7wZUreI_x2
X-ALT-DESC;FMTTYPE=text/html:<span style="color: rgb(64\, 63\, 66)\; font-family: Arial\, Verdana\, Helvetica\, sans-serif\; font-size: 20px\; font-weight: 700\; text-align: center\;">JOIN THE EAST COUNTY CHAMBERS OF COMMERCE FOR A FREE OKTOBERFEST MIXER. GREAT PRIZES\, GUEST APPEARANCES FROM BREWERIES AND DRESS UP IN YOUR FAVORITE OKTOBERFEST ATTIRE FOR THE BEST ATTIRE CONTEST!!!<br />\nRegister for free here:&nbsp\;</span>https://zoom.us/meeting/register/tJUudOCprTosG9DiJMHRJInUYb7wZUreI_x2
LOCATION:
UID:e.530.17436
SEQUENCE:3
DTSTAMP:20260420T125350Z
URL:https://business.poway.com/events/details/san-diego-east-county-chamber-oktoberfest-free-virtual-mixer-17436
END:VEVENT

END:VCALENDAR
