BEGIN:VCALENDAR
VERSION:2.0
PRODID:-//ChamberMaster//Event Calendar 2.0//EN
METHOD:PUBLISH
X-PUBLISHED-TTL:P3D
REFRESH-INTERVAL:P3D
CALSCALE:GREGORIAN
BEGIN:VEVENT
DTSTART:20200221T213000Z
DTEND:20200221T223000Z
X-MICROSOFT-CDO-ALLDAYEVENT:FALSE
SUMMARY:Rush Cycle Poway Ribbon Cutting
DESCRIPTION:Join us as we welcome Rush Cycle to Poway! Enjoy music and refreshments as we learn about all they have to offer.
X-ALT-DESC;FMTTYPE=text/html:Join us as we welcome Rush Cycle to Poway! Enjoy music and refreshments as we learn about all they have to offer.
LOCATION:12368 Poway Road Poway\, CA 92064
UID:e.530.16474
SEQUENCE:3
DTSTAMP:20260421T000946Z
URL:https://business.poway.com/events/details/rush-cycle-poway-ribbon-cutting-16474
END:VEVENT

END:VCALENDAR
