BEGIN:VCALENDAR
VERSION:2.0
PRODID:-//ChamberMaster//Event Calendar 2.0//EN
METHOD:PUBLISH
X-PUBLISHED-TTL:P3D
REFRESH-INTERVAL:P3D
CALSCALE:GREGORIAN
BEGIN:VEVENT
DTSTART:20220521T150000Z
DTEND:20220521T190000Z
X-MICROSOFT-CDO-ALLDAYEVENT:FALSE
SUMMARY:Rummage and Bake Sale
DESCRIPTION:Mount Olive invites you to check out LWML's annual Rummage and Bake Sale on Saturday\, May1st from 8am-12pm. Get great deals on household goods\, clothing\, kitchenware\, collectibles\, toys\, small furniture\, and much more!
X-ALT-DESC;FMTTYPE=text/html:Mount Olive invites you to check out LWML&#39\;s annual Rummage and Bake Sale on Saturday\, May1st from 8am-12pm. Get great deals on household goods\, clothing\, kitchenware\, collectibles\, toys\, small furniture\, and much more!<br />\n&nbsp\;
LOCATION:14280 Poway Rd Poway\, CA 92064
UID:e.530.20582
SEQUENCE:3
DTSTAMP:20260420T041526Z
URL:https://business.poway.com/events/details/rummage-and-bake-sale-20582
END:VEVENT

END:VCALENDAR
