BEGIN:VCALENDAR
VERSION:2.0
PRODID:-//ChamberMaster//Event Calendar 2.0//EN
METHOD:PUBLISH
X-PUBLISHED-TTL:P3D
REFRESH-INTERVAL:P3D
CALSCALE:GREGORIAN
BEGIN:VEVENT
DTSTART:20201009T230000Z
DTEND:20201010T010000Z
X-MICROSOFT-CDO-ALLDAYEVENT:FALSE
SUMMARY:Ribbon Cutting - Soapy Joe's of Sabre Springs
DESCRIPTION:The Poway Chamber of Commerce will hold a Ribbon Cutting at the new Soapy Joe's Car Wash in Sabre Springs at 4:00 pm. Directly following the ribbon cutting\, stick around for Soapy Joe's Grand Opening with music from Magic 92.5 and annual membership giveaways valued at $385!
X-ALT-DESC;FMTTYPE=text/html:<span style="font-size:14px\;"><span style="font-family:arial\;">The Poway Chamber of Commerce will hold a Ribbon Cutting at the new Soapy Joe&#39\;s Car Wash in Sabre Springs at 4:00 pm. Directly following the ribbon cutting\, stick around for Soapy Joe&#39\;s Grand Opening with music from Magic 92.5 and&nbsp\;annual membership giveaways&nbsp\;valued at $385!</span></span>
LOCATION:12620 Sabre Springs Parkway\, San Diego\, CA 92128
UID:e.530.17445
SEQUENCE:3
DTSTAMP:20260420T142307Z
URL:https://business.poway.com/events/details/ribbon-cutting-soapy-joe-s-of-sabre-springs-17445
END:VEVENT

END:VCALENDAR
