BEGIN:VCALENDAR
VERSION:2.0
PRODID:-//ChamberMaster//Event Calendar 2.0//EN
METHOD:PUBLISH
X-PUBLISHED-TTL:P3D
REFRESH-INTERVAL:P3D
CALSCALE:GREGORIAN
BEGIN:VEVENT
DTSTART:20220602T230000Z
DTEND:20220603T010000Z
X-MICROSOFT-CDO-ALLDAYEVENT:FALSE
SUMMARY:Ribbon Cutting & Open House at New Poway Chamber Office
DESCRIPTION:Join us for a celebratory ribbon cutting and open house at the Poway Chamber's new office location\, 12222 Poway Road\, Suite 27. Come and see our new space\, enjoy refreshments and more!\n\n\n\nThis event is free and open to the public\; all are encouraged to attend. Chamber staff and Board members\, along with city officials will be in attendance. Refreshments will be served.
X-ALT-DESC;FMTTYPE=text/html:Join us for a celebratory ribbon cutting and open house at the Poway Chamber&#39\;s new office location\, 12222 Poway Road\, Suite 27. Come and see our new space\, enjoy refreshments and more!<br />\n<br />\nThis event is free and open to the public\; all are encouraged to attend. Chamber staff and Board members\, along with city officials will be in attendance. Refreshments will be served.
LOCATION:12222 Poway Road\, Suite 27 Poway\, CA 92064
UID:e.530.20574
SEQUENCE:3
DTSTAMP:20260422T125929Z
URL:https://business.poway.com/events/details/ribbon-cutting-open-house-at-new-poway-chamber-office-20574
END:VEVENT

END:VCALENDAR
