BEGIN:VCALENDAR
VERSION:2.0
PRODID:-//ChamberMaster//Event Calendar 2.0//EN
METHOD:PUBLISH
X-PUBLISHED-TTL:P3D
REFRESH-INTERVAL:P3D
CALSCALE:GREGORIAN
BEGIN:VEVENT
DTSTART:20200312T000000Z
DTEND:20200312T013000Z
X-MICROSOFT-CDO-ALLDAYEVENT:FALSE
SUMMARY:Ribbon Cutting - Halcyon Real Estate Services
DESCRIPTION:Enjoy light appetizers\, cocktails\, music\, and networking\, and learn about Halcyon's new SENIOR@HOME program. This program offers services for Aging in Place (including: full service home maintenance\, property management while still living in home\, ADA compliant updates)\, Transitional Moving Services (including: full coordination of physical move with downsizing through distribution to family\, estate sales\, donations\, etc.\, actual move including storage\, pack/unpack and placement of furniture\, and prepping home for rent or sale)\, and Rent or Sell Assessments (including: one on one consult with family and trusted advisors\, rent home for consistent cash flow and investment opportunities\, offering full property management services\, and home sale).
X-ALT-DESC;FMTTYPE=text/html:Enjoy light appetizers\, cocktails\, music\, and networking\, and learn about Halcyon&#39\;s new SENIOR@HOME program. This program offers services for <u>Aging in Place</u> (including: full service home maintenance\, property management while still living in home\, ADA compliant updates)\, <u>Transitional Moving Services</u> (including: full coordination of physical move with downsizing through distribution to family\, estate sales\, donations\, etc.\, actual move including storage\, pack/unpack and placement of furniture\, and prepping home for rent or sale)\, and<u> Rent or Sell Assessments</u> (including: one on one consult with family and trusted advisors\, rent home for consistent cash flow and investment opportunities\, offering full property management services\, and home sale).
LOCATION:Halycon Real Estate Services 14282 Danielson Street Poway\, CA 92064
UID:e.530.16485
SEQUENCE:3
DTSTAMP:20260421T001130Z
URL:https://business.poway.com/events/details/ribbon-cutting-halcyon-real-estate-services-16485
END:VEVENT

END:VCALENDAR
