BEGIN:VCALENDAR
VERSION:2.0
PRODID:-//ChamberMaster//Event Calendar 2.0//EN
METHOD:PUBLISH
X-PUBLISHED-TTL:P3D
REFRESH-INTERVAL:P3D
CALSCALE:GREGORIAN
BEGIN:VEVENT
DTSTART:20191214T183000Z
DTEND:20191214T193000Z
X-MICROSOFT-CDO-ALLDAYEVENT:FALSE
SUMMARY:Ribbon Cutting at Smokin J's BBQ
DESCRIPTION:Join us as we welcome Smokin J's to Poway!!
X-ALT-DESC;FMTTYPE=text/html:Join us as we welcome Smokin J&#39\;s to Poway!!&nbsp\;
LOCATION:Smokin J's BBQ 14035 Midland Rd Poway CA 92064
UID:e.530.16461
SEQUENCE:3
DTSTAMP:20260421T044323Z
URL:https://business.poway.com/events/details/ribbon-cutting-at-smokin-j-s-bbq-16461
END:VEVENT

END:VCALENDAR
