BEGIN:VCALENDAR
VERSION:2.0
PRODID:-//ChamberMaster//Event Calendar 2.0//EN
METHOD:PUBLISH
X-PUBLISHED-TTL:P3D
REFRESH-INTERVAL:P3D
CALSCALE:GREGORIAN
BEGIN:VEVENT
DTSTART:20191218T193000Z
DTEND:20191218T203000Z
X-MICROSOFT-CDO-ALLDAYEVENT:FALSE
SUMMARY:Ribbon Cutting at San Diego Cafe
DESCRIPTION:Let's welcome San Diego Cafe to Poway! They will be preparing food & drinks  samples from their menu.
X-ALT-DESC;FMTTYPE=text/html:Let&#39\;s welcome San Diego Cafe to Poway! They&nbsp\;will be preparing food &amp\; drinks&nbsp\; samples from their menu.
LOCATION:San Diego Cafe 13771 Danielson St Poway CA 92064
UID:e.530.16464
SEQUENCE:3
DTSTAMP:20260421T044317Z
URL:https://business.poway.com/events/details/ribbon-cutting-at-san-diego-cafe-16464
END:VEVENT

END:VCALENDAR
