BEGIN:VCALENDAR
VERSION:2.0
PRODID:-//ChamberMaster//Event Calendar 2.0//EN
METHOD:PUBLISH
X-PUBLISHED-TTL:P3D
REFRESH-INTERVAL:P3D
CALSCALE:GREGORIAN
BEGIN:VEVENT
DTSTART:20220518T160000Z
DTEND:20220518T170000Z
X-MICROSOFT-CDO-ALLDAYEVENT:FALSE
SUMMARY:Ribbon Cutting: Addy's Bistro
DESCRIPTION:Join Chamber member Addy's Bistro for a ribbon cutting ceremony on Wednesday\, May 18 at 9:00 am. Enjoy your morning coffee and grab a breakfast sandwich or pastry from Addy's while we celebrate!
X-ALT-DESC;FMTTYPE=text/html:Join Chamber member Addy&#39\;s Bistro for a ribbon cutting ceremony on Wednesday\, May 18 at 9:00 am. Enjoy your morning coffee and grab a breakfast sandwich or pastry from Addy&#39\;s while we celebrate!
LOCATION:Addy's Bistro 13771 Danielson St.
UID:e.530.20577
SEQUENCE:3
DTSTAMP:20260420T041643Z
URL:https://business.poway.com/events/details/ribbon-cutting-addy-s-bistro-20577
END:VEVENT

END:VCALENDAR
