BEGIN:VCALENDAR
VERSION:2.0
PRODID:-//ChamberMaster//Event Calendar 2.0//EN
METHOD:PUBLISH
X-PUBLISHED-TTL:P3D
REFRESH-INTERVAL:P3D
CALSCALE:GREGORIAN
BEGIN:VEVENT
DTSTART:20220203T200000Z
DTEND:20220203T210000Z
X-MICROSOFT-CDO-ALLDAYEVENT:FALSE
SUMMARY:Ribbon Cutting: Acupuncture Wellness
DESCRIPTION:Join us for a Ribbon Cutting with Chamber Member\, Acupuncture Wellness!
X-ALT-DESC;FMTTYPE=text/html:Join us for a Ribbon Cutting with Chamber Member\, <a href="https://business.poway.com/list/member/acupuncture-wellness-11037">Acupuncture Wellness</a>!
LOCATION:Acupuncture Wellness 16486 Bernardo Center Dr.\, Ste. 170 San Diego\, CA 92128
UID:e.530.20291
SEQUENCE:3
DTSTAMP:20260419T233210Z
URL:https://business.poway.com/events/details/ribbon-cutting-acupuncture-wellness-20291
END:VEVENT

END:VCALENDAR
