BEGIN:VCALENDAR
VERSION:2.0
PRODID:-//ChamberMaster//Event Calendar 2.0//EN
METHOD:PUBLISH
X-PUBLISHED-TTL:P3D
REFRESH-INTERVAL:P3D
CALSCALE:GREGORIAN
BEGIN:VEVENT
DTSTART:20161020T000000Z
DTEND:20161020T020000Z
X-MICROSOFT-CDO-ALLDAYEVENT:FALSE
SUMMARY:Ribbon Cutting
DESCRIPTION:Join us for the grand opening of Caliber Collision's new location in Poway.
X-ALT-DESC;FMTTYPE=text/html:Join us for the grand opening of Caliber Collision&#39\;s new location in Poway.
LOCATION:12675 Stowe Drive Poway CA 92064
UID:e.530.13025
SEQUENCE:3
DTSTAMP:20260420T015955Z
URL:https://business.poway.com/events/details/ribbon-cutting-13025
END:VEVENT

END:VCALENDAR
