BEGIN:VCALENDAR
VERSION:2.0
PRODID:-//ChamberMaster//Event Calendar 2.0//EN
METHOD:PUBLISH
X-PUBLISHED-TTL:P3D
REFRESH-INTERVAL:P3D
CALSCALE:GREGORIAN
BEGIN:VEVENT
DTSTART:20150801T223000Z
DTEND:20150801T230000Z
X-MICROSOFT-CDO-ALLDAYEVENT:FALSE
SUMMARY:Ribbon Cutting
DESCRIPTION:Ribbon Cutting Poway Subway
X-ALT-DESC;FMTTYPE=text/html:Ribbon Cutting Poway Subway
LOCATION:12624 Poway Road #14\, Poway
UID:e.530.10141
SEQUENCE:3
DTSTAMP:20260423T183140Z
URL:https://business.poway.com/events/details/ribbon-cutting-08-01-2015-10141
END:VEVENT

END:VCALENDAR
