BEGIN:VCALENDAR
VERSION:2.0
PRODID:-//ChamberMaster//Event Calendar 2.0//EN
METHOD:PUBLISH
X-PUBLISHED-TTL:P3D
REFRESH-INTERVAL:P3D
CALSCALE:GREGORIAN
BEGIN:VEVENT
DTSTART:20200329T160000Z
DTEND:20200329T230000Z
X-MICROSOFT-CDO-ALLDAYEVENT:FALSE
SUMMARY:RESCHEDULED: Poway Americana Festival
DESCRIPTION:PLEASE NOTE THAT THIS EVENT HAS BEEN RESCHEDULED FOR SEPTEMBER 13\, 2020\n\n\n\nDon't miss the newly re-imagined annual community fair with vendors\, crafters\, carnival games\, the Madame Mechanic Classic Car Show\, fabulous entertainment\, a beer garden\, great food and more!\n\n\n\nSponsorship Opportunities!\n\nVendor Applications
X-ALT-DESC;FMTTYPE=text/html:<span style="color:#FF0000\;"><strong>PLEASE NOTE THAT THIS EVENT HAS BEEN RESCHEDULED FOR SEPTEMBER 13\, 2020</strong></span><br />\n<br />\nDon&#39\;t miss the newly re-imagined annual community fair with vendors\, crafters\, carnival games\, the Madame Mechanic Classic Car Show\, fabulous entertainment\, a beer garden\, great food and more!<br />\n<br />\n<a href="http://poway.com/a/i/pdfs/AmericanaSponsorship-Levels.pdf">Sponsorship Opportunities!</a><br />\n<a href="http://www.kennedyfaires.com/poway">Vendor Applications</a>
LOCATION:Midland Road between Poway Road and Hilleary Place.
UID:e.530.15971
SEQUENCE:3
DTSTAMP:20260420T224743Z
URL:https://business.poway.com/events/details/rescheduled-poway-americana-festival-15971
END:VEVENT

END:VCALENDAR
