BEGIN:VCALENDAR
VERSION:2.0
PRODID:-//ChamberMaster//Event Calendar 2.0//EN
METHOD:PUBLISH
X-PUBLISHED-TTL:P3D
REFRESH-INTERVAL:P3D
CALSCALE:GREGORIAN
BEGIN:VEVENT
DTSTART:20201105T183000Z
DTEND:20201105T193000Z
X-MICROSOFT-CDO-ALLDAYEVENT:FALSE
SUMMARY:Reducing the Spread of COVID-19 in the Workplace: Important Measures for Keeping San Diego County Businesses Open
DESCRIPTION:This 60 minute webinar and Q&A session by the UCSD COVID-19 Small Business Outreach Project will cover key information on implementing safety measures\, managing a case of COVID-19 in the workplace\, navigating federal sick leave laws and tax credits\, and additional resources for maximizing the safety of employees and customers. Ultimately\, keeping the workplace safe will help reduce the spread of COVID-19 in the community and help keep San Diego County businesses open.\n\n\n\nAccess the full recorded webinar here: https://youtu.be/1dxRSFCPwKs
X-ALT-DESC;FMTTYPE=text/html:<span style="color: rgb(0\, 0\, 0)\; font-family: Arial\, sans-serif\; font-size: small\;">This 60 minute webinar and Q&amp\;A session by the UCSD COVID-19 Small Business Outreach Project will cover key information on implementing safety measures\, managing a case of COVID-19 in the workplace\, navigating federal sick leave laws and tax credits\, and additional resources for maximizing the safety of employees and customers. Ultimately\, keeping the workplace safe will help reduce the spread of COVID-19 in the community and help keep San Diego County businesses open.<br />\n<br />\nAccess the full recorded webinar here:&nbsp\;</span><a href="https://youtu.be/1dxRSFCPwKs">https://youtu.be/1dxRSFCPwKs</a>
LOCATION:Slide show presentation can be found here: http://poway.com/a/i/pdfs/UCSD-COVID-19-Business-Safety-Handout.pptx.pdf Please also complete a short survey for the UCSD COVID-19 Small Business Outreach Project here: https://docs.google.com/forms/d/e/1FAIpQLScGNF5svZq75Z-B3b5wU2eqBC52o1ANFxdhOzeR14mg7VH2GA/viewform
UID:e.530.17585
SEQUENCE:3
DTSTAMP:20260420T111601Z
URL:https://business.poway.com/events/details/reducing-the-spread-of-covid-19-in-the-workplace-important-measures-for-keeping-san-diego-county-businesses-open-17585
END:VEVENT

END:VCALENDAR
