BEGIN:VCALENDAR
VERSION:2.0
PRODID:-//ChamberMaster//Event Calendar 2.0//EN
METHOD:PUBLISH
X-PUBLISHED-TTL:P3D
REFRESH-INTERVAL:P3D
CALSCALE:GREGORIAN
BEGIN:VEVENT
DTSTART:20220312T230000Z
DTEND:20220313T000000Z
X-MICROSOFT-CDO-ALLDAYEVENT:FALSE
SUMMARY:Poway Youth Theater Alice in Wonderland
DESCRIPTION:Shows at 3pm and 7pm.\n\nFor more than 20 years\, Poway OnStage has partnered with the world-renowned Missoula Children's Theatre to present its annual Musical Youth Theater Camp.  Children K-12th grade will audition\, rehearse and stage a full-scale musical performance in just six days!  This year\, local young thespians will perform an all-new version of the classic tale\, Alice in Wonderland.  Auditions and participation are free and open to the public as they are supported by Poway OnStage's donor supported Arts in Education Initiative.
X-ALT-DESC;FMTTYPE=text/html:<span style="font-size:14px"><strong>Shows at 3pm and 7pm.</strong></span><br />\n<span style="background-color:rgba(255\, 255\, 255\, 0.5)\; color:rgb(50\, 50\, 50)\; font-family:conduit itc\,sans-serif\; font-size:18px">For more than 20 years\, Poway OnStage has partnered with the world-renowned Missoula Children&rsquo\;s Theatre to present its annual&nbsp\;</span><strong>Musical Youth Theater Camp.</strong><span style="background-color:rgba(255\, 255\, 255\, 0.5)\; color:rgb(50\, 50\, 50)\; font-family:conduit itc\,sans-serif\; font-size:18px">&nbsp\; Children K-12</span><span style="color:rgb(50\, 50\, 50)\; font-family:conduit itc\,sans-serif\; font-size:13.5px">th</span><span style="background-color:rgba(255\, 255\, 255\, 0.5)\; color:rgb(50\, 50\, 50)\; font-family:conduit itc\,sans-serif\; font-size:18px">&nbsp\;grade will audition\, rehearse and stage a full-scale musical performance in just six days!&nbsp\; This year\, local young thespians will perform an all-new version of the classic tale\,&nbsp\;</span><strong><em>Alice in Wonderland</em></strong><span style="background-color:rgba(255\, 255\, 255\, 0.5)\; color:rgb(50\, 50\, 50)\; font-family:conduit itc\,sans-serif\; font-size:18px">.</span><strong>&nbsp\;&nbsp\;</strong><span style="background-color:rgba(255\, 255\, 255\, 0.5)\; color:rgb(50\, 50\, 50)\; font-family:conduit itc\,sans-serif\; font-size:18px">Auditions and participation are free and open to the public as they are supported by Poway OnStage&rsquo\;s donor supported Arts in Education Initiative.</span>
LOCATION:The Poway Center for the Performing Arts 15498 Espola Rd. Poway\, CA 92064
UID:e.530.19871
SEQUENCE:3
DTSTAMP:20260420T030019Z
URL:https://business.poway.com/events/details/poway-youth-theater-alice-in-wonderland-19871
END:VEVENT

END:VCALENDAR
