BEGIN:VCALENDAR
VERSION:2.0
PRODID:-//ChamberMaster//Event Calendar 2.0//EN
METHOD:PUBLISH
X-PUBLISHED-TTL:P3D
REFRESH-INTERVAL:P3D
CALSCALE:GREGORIAN
BEGIN:VEVENT
DTSTART:20210526T230000Z
DTEND:20210527T010000Z
X-MICROSOFT-CDO-ALLDAYEVENT:FALSE
SUMMARY:Poway USD Career Technical Education (CTE) EXPO
DESCRIPTION:Poway Unified is taking its Career Technical Education (CTE) Expo online! This annual showcase of learning outcomes will feature an unprecedented variety of our pathway programs\, including details about early college credit opportunities\, and featuring live student testimonials!\n\n\n\nThe CTE Expo is always a "can't miss" event\, and we think you'll enjoy the virtual version even more. By registering early\, you'll have access to preview sessions and learn about pathway offerings. \n\n\n\nPlease take a moment to register now\, so you don't miss out\, and feel free to share the registration link with anyone that you think might be interested in seeing the incredible work that Poway Unified students are doing in our CTE pathway programs.
X-ALT-DESC;FMTTYPE=text/html:<span style="background-color:rgb(255\, 255\, 255)\; color:rgb(51\, 51\, 51)\; font-family:source sans pro\,helvetica neue\,helvetica\,arial\,sans-serif\; font-size:16px">Poway Unified is taking its Career Technical Education (CTE) Expo online! This annual showcase of learning outcomes will feature an unprecedented variety of our pathway programs\, including details about early college credit opportunities\, and featuring live student testimonials!</span><br />\n<br />\n<span style="background-color:rgb(255\, 255\, 255)\; color:rgb(51\, 51\, 51)\; font-family:source sans pro\,helvetica neue\,helvetica\,arial\,sans-serif\; font-size:16px">The CTE Expo is always a &quot\;can&#39\;t miss&quot\; event\, and we think you&#39\;ll enjoy the virtual version even more. By registering early\, you&#39\;ll have access to preview sessions and learn about pathway offerings.&nbsp\;</span><br />\n<br />\n<span style="background-color:rgb(255\, 255\, 255)\; color:rgb(51\, 51\, 51)\; font-family:source sans pro\,helvetica neue\,helvetica\,arial\,sans-serif\; font-size:16px">Please take a moment to register now\, so you don&#39\;t miss out\, and feel free to share the registration link with anyone that you think might be interested in seeing the incredible work that Poway Unified students are doing in our CTE pathway programs.</span>
LOCATION:
UID:e.530.19071
SEQUENCE:3
DTSTAMP:20260420T010158Z
URL:https://business.poway.com/events/details/poway-usd-career-technical-education-cte-expo-19071
END:VEVENT

END:VCALENDAR
