BEGIN:VCALENDAR
VERSION:2.0
PRODID:-//ChamberMaster//Event Calendar 2.0//EN
METHOD:PUBLISH
X-PUBLISHED-TTL:P3D
REFRESH-INTERVAL:P3D
CALSCALE:GREGORIAN
BEGIN:VEVENT
DTSTART:20260322T230000Z
DTEND:20260323T010000Z
X-MICROSOFT-CDO-ALLDAYEVENT:FALSE
SUMMARY:Poway Symphony Orchestra Concert: "Mendelssohn Classics"
DESCRIPTION:The Poway Symphony Orchestra will present "Mendelssohn Classics" on Sunday\, March 22\, 2026\, at 4:00 p.m. at the Poway Center for Performing Arts. Under the baton of Conductor John LoPiccolo\, this program features two masterpieces by Felix Mendelssohn that are elegant\, expressive and brimming with Romantic spirit.\n\n\n\nThe concert opens with the dramatic Symphony No. 5 ("Reformation")\, filled with majestic themes and sweeping orchestral writing. the centerpiece of the concert is Mendelssohn's Violin Concerto in E Minor\, a jewel of the violin repertoire\, known for its soaring melodies and virtuosic brilliance. The dynamic violinist YuEun Gemma Kim\, praised for her vibrant artistry\, joins as guest soloist. Also on the program is Beethoven's Overture to Fidelio.
X-ALT-DESC;FMTTYPE=text/html:The Poway Symphony Orchestra will present &quot\;Mendelssohn Classics&quot\; on Sunday\, March 22\, 2026\, at 4:00 p.m. at the Poway Center for Performing Arts. Under the baton of Conductor John LoPiccolo\, this program features two masterpieces by Felix Mendelssohn that are elegant\, expressive and brimming with Romantic spirit.<br />\n<br />\nThe concert opens with the dramatic Symphony No. 5 (&ldquo\;Reformation&rdquo\;)\, filled with majestic themes and sweeping orchestral writing. the centerpiece of the concert is Mendelssohn&rsquo\;s Violin Concerto in E Minor\, a jewel of the violin repertoire\, known for its soaring melodies and virtuosic brilliance. The dynamic violinist YuEun Gemma Kim\, praised for her vibrant artistry\, joins as guest soloist. Also on the program is Beethoven&#39\;s Overture to Fidelio.
LOCATION:Poway Center for the Performing Arts | 15498 Espola Road\, Poway
UID:e.530.24970
SEQUENCE:3
DTSTAMP:20260421T020229Z
URL:https://business.poway.com/events/details/poway-symphony-orchestra-concert-mendelssohn-classics-24970
END:VEVENT

END:VCALENDAR
