BEGIN:VCALENDAR
VERSION:2.0
PRODID:-//ChamberMaster//Event Calendar 2.0//EN
METHOD:PUBLISH
X-PUBLISHED-TTL:P3D
REFRESH-INTERVAL:P3D
CALSCALE:GREGORIAN
BEGIN:VEVENT
DTSTART;VALUE=DATE:20200918
DTEND;VALUE=DATE:20200921
TRANSP:TRANSPARENT
X-MICROSOFT-CDO-ALLDAYEVENT:TRUE
SUMMARY:Poway Senior Center: Rummage Sale
DESCRIPTION:Huge Rummage Sale - proceeds benefit the Poway Senior Center\n\nSeptember 18\, 19\, 20\n\nFriday-Saturday 9:00 am - 2:00 pm\n\nSunday 12:00 pm - 3:00 pm
X-ALT-DESC;FMTTYPE=text/html:<strong>Huge Rummage Sale - proceeds benefit the Poway Senior Center</strong><br />\nSeptember 18\, 19\, 20<br />\nFriday-Saturday 9:00 am - 2:00 pm<br />\nSunday 12:00 pm - 3:00 pm
LOCATION:16315 Pomerado Road
UID:e.530.17397
SEQUENCE:3
DTSTAMP:20260420T141048Z
URL:https://business.poway.com/events/details/poway-senior-center-rummage-sale-17397
END:VEVENT

END:VCALENDAR
