BEGIN:VCALENDAR
VERSION:2.0
PRODID:-//ChamberMaster//Event Calendar 2.0//EN
METHOD:PUBLISH
X-PUBLISHED-TTL:P3D
REFRESH-INTERVAL:P3D
CALSCALE:GREGORIAN
BEGIN:VEVENT
DTSTART:20201012T150000Z
DTEND:20201013T000000Z
X-MICROSOFT-CDO-ALLDAYEVENT:FALSE
SUMMARY:Poway OnStage Virtual Field Trip with Sonia De Los Santos
DESCRIPTION:In Poway OnStage's Virtual Field Trip celebrating Hispanic Heritage Month\, Latin Grammy nominee\, Sonia De Los Santos\, will perform some of her favorite songs\, tell stories of her heritage and share the rhythms and instruments that make her music so vibrant and enchanting.  San Diego area teachers\, parents and community members can register for this FREE Virtual Field Trip at www.PowayOnStage.org/FieldTrips.
X-ALT-DESC;FMTTYPE=text/html:<span style="background-color:rgb(248\, 248\, 248)\; color:rgb(50\, 50\, 50)\; font-family:conduit itc\,sans-serif\; font-size:18px">In Poway OnStage&rsquo\;s Virtual Field Trip celebrating Hispanic Heritage Month\, Latin Grammy nominee\, Sonia De Los Santos\, will perform some of her favorite songs\, tell stories of her heritage and share the rhythms and instruments that make her music so vibrant and enchanting.&nbsp\;&nbsp\;</span><span style="font-size:18px"><span style="background-color:rgba(255\, 255\, 255\, 0.5)\; color:rgb(50\, 50\, 50)\; font-family:conduit itc\,sans-serif">San Diego area teachers\, parents and community members can register for this FREE Virtual Field Trip at www.PowayOnStage.org/FieldTrips.</span></span>
LOCATION:Virtual Event
UID:e.530.17412
SEQUENCE:3
DTSTAMP:20260420T125148Z
URL:https://business.poway.com/events/details/poway-onstage-virtual-field-trip-with-sonia-de-los-santos-10-12-2020-17412
END:VEVENT

END:VCALENDAR
