BEGIN:VCALENDAR
VERSION:2.0
PRODID:-//ChamberMaster//Event Calendar 2.0//EN
METHOD:PUBLISH
X-PUBLISHED-TTL:P3D
REFRESH-INTERVAL:P3D
CALSCALE:GREGORIAN
BEGIN:VEVENT
DTSTART:20201214T160000Z
DTEND:20201215T010000Z
X-MICROSOFT-CDO-ALLDAYEVENT:FALSE
SUMMARY:Poway OnStage Virtual Field Trip - The Nutcracker
DESCRIPTION:In Poway OnStage's Virtual Field Trip\, Southern California Ballet will perform narrated show excerpts of the holiday classic "The Nutcracker"\, and provide extension activities in movement\, pantomime and costume design.  Teachers\, parents and community members can sign-up for this FREE Virtual Field Trip at www.PowayOnStage.org/Field Trips.
X-ALT-DESC;FMTTYPE=text/html:<span style="background-color:rgb(248\, 248\, 248)\; color:rgb(50\, 50\, 50)\; font-family:conduit itc\,sans-serif\; font-size:18px">In Poway OnStage&rsquo\;s Virtual Field Trip\, Southern California Ballet will perform narrated show excerpts of the holiday classic &ldquo\;The Nutcracker&rdquo\;\, and provide extension activities in movement\, pantomime and costume design.&nbsp\;&nbsp\;</span><span style="font-size:18px"><span style="background-color:rgba(255\, 255\, 255\, 0.5)\; color:rgb(50\, 50\, 50)\; font-family:conduit itc\,sans-serif">Teachers\, parents and community members can sign-up for this FREE Virtual Field Trip at www.PowayOnStage.org/Field Trips.&nbsp\;</span></span>
LOCATION:Virtual Event
UID:e.530.17431
SEQUENCE:3
DTSTAMP:20260420T093401Z
URL:https://business.poway.com/events/details/poway-onstage-virtual-field-trip-the-nutcracker-12-14-2020-17431
END:VEVENT

END:VCALENDAR
