BEGIN:VCALENDAR
VERSION:2.0
PRODID:-//ChamberMaster//Event Calendar 2.0//EN
METHOD:PUBLISH
X-PUBLISHED-TTL:P3D
REFRESH-INTERVAL:P3D
CALSCALE:GREGORIAN
BEGIN:VEVENT
DTSTART:20260512T010000Z
DTEND:20260512T023000Z
X-MICROSOFT-CDO-ALLDAYEVENT:FALSE
SUMMARY:Poway Non-Profit Grant Workshop
DESCRIPTION:Come to Supervisor Joel Anderson's Poway Grant Workshop co-hosted by the Poway Chamber of Commerce. Join to learn about the available county grant programs and the best practices when applying for your organization!\n\n\n\n   CLICK HERE TO RSVP
X-ALT-DESC;FMTTYPE=text/html:Come to Supervisor Joel Anderson&#39\;s Poway Grant Workshop co-hosted by the Poway Chamber of Commerce. Join to learn about the available county grant programs and the best practices when applying for your organization!<br />\n<br />\n<a href="https://public-district2.sandiegocounty.gov/forms/form/?ID=99"><span style="font-size:20px\;"><strong>&gt\;&gt\; CLICK HERE TO RSVP &lt\;&lt\;</strong></span></a>
LOCATION:Poway Branch Library - Community Room 13137 Poway Road Poway\, CA 92064
UID:e.530.24991
SEQUENCE:3
DTSTAMP:20260424T083309Z
URL:https://business.poway.com/events/details/poway-non-profit-grant-workshop-24991
END:VEVENT

END:VCALENDAR
