BEGIN:VCALENDAR
VERSION:2.0
PRODID:-//ChamberMaster//Event Calendar 2.0//EN
METHOD:PUBLISH
X-PUBLISHED-TTL:P3D
REFRESH-INTERVAL:P3D
CALSCALE:GREGORIAN
BEGIN:VEVENT
DTSTART:20220304T023000Z
DTEND:20220304T040000Z
X-MICROSOFT-CDO-ALLDAYEVENT:FALSE
SUMMARY:Poway Kiwanis Open House
DESCRIPTION:What is Kiwanis?  Join us on Thursday\, March 3 at 6:30 pm for a Poway Kiwanis Open House to find out!  Everyone is welcome at the Hamburger Factory to learn what our club is all about . our many service projects for children\, socials\, fundraisers\, high school Key Clubs\, middle school Builders Club\, and our Aktion Club for local developmentally disabled adults.
X-ALT-DESC;FMTTYPE=text/html:<span style="font-size:18.0pt">What is Kiwanis?&nbsp\; Join us on Thursday\, March 3 at 6:30 pm for a Poway Kiwanis Open House to find out!&nbsp\; Everyone is welcome at the Hamburger Factory to learn what our club is all about&hellip\;. our many service projects for children\, socials\, fundraisers\, high school Key Clubs\, middle school Builders Club\, and our Aktion Club for local developmentally disabled adults.</span>
LOCATION:Hamburger Factory (patio room)
UID:e.530.20429
SEQUENCE:3
DTSTAMP:20260420T010006Z
URL:https://business.poway.com/events/details/poway-kiwanis-open-house-20429
END:VEVENT

END:VCALENDAR
