BEGIN:VCALENDAR
VERSION:2.0
PRODID:-//ChamberMaster//Event Calendar 2.0//EN
METHOD:PUBLISH
X-PUBLISHED-TTL:P3D
REFRESH-INTERVAL:P3D
CALSCALE:GREGORIAN
BEGIN:VEVENT
DTSTART;VALUE=DATE:20201006
DTEND;VALUE=DATE:20201007
TRANSP:TRANSPARENT
X-MICROSOFT-CDO-ALLDAYEVENT:TRUE
SUMMARY:Poway Fit Challenge Week 5
DESCRIPTION:The Poway Chamber of Commerce Health & Wellness Committee invites you to join the 6 week Poway Fitness Challenge!  Here's how to participate:\n\n \n1. Like and follow us on social media @powayhealthy\n\n2. Set a fitness goal and share on social media. Tag @powayhealthy\, hashtag #powayhealthy\n\n3. Post updates weekly with the same tags. Each time you post you are entered into our weekly prize drawing!\n\n4. Grand prize winner will be determined at the end of 6 weeks based on participation and results!\n\n5. Share your success story to be featured on our website!\n\n\n\nEach week a winner will be selected based on participation.  Prizes are donated by Chamber members.  See powayhealthy.com for more details.
X-ALT-DESC;FMTTYPE=text/html:The Poway Chamber of Commerce Health &amp\; Wellness Committee invites you to join the 6 week Poway Fitness Challenge!&nbsp\; Here&#39\;s how to participate:<br />\n&nbsp\;\n<p class="m_-2240642687070310763MsoListParagraph" style="margin: 0in 0in 0in 0.5in\; font-size: 11pt\; font-family: Calibri\, sans-serif\; color: rgb(34\, 34\, 34)\; background-color: rgb(255\, 255\, 255)\;">1. Like and follow us on social media @powayhealthy</p>\n\n<p class="m_-2240642687070310763MsoListParagraph" style="margin: 0in 0in 0in 0.5in\; font-size: 11pt\; font-family: Calibri\, sans-serif\; color: rgb(34\, 34\, 34)\; background-color: rgb(255\, 255\, 255)\;">2. Set a fitness goal and share on social media. Tag @powayhealthy\, hashtag #powayhealthy</p>\n\n<p class="m_-2240642687070310763MsoListParagraph" style="margin: 0in 0in 0in 0.5in\; font-size: 11pt\; font-family: Calibri\, sans-serif\; color: rgb(34\, 34\, 34)\; background-color: rgb(255\, 255\, 255)\;">3. Post updates weekly with the same tags. Each time you post you are entered into our weekly prize drawing!</p>\n\n<p class="m_-2240642687070310763MsoListParagraph" style="margin: 0in 0in 0in 0.5in\; font-size: 11pt\; font-family: Calibri\, sans-serif\; color: rgb(34\, 34\, 34)\; background-color: rgb(255\, 255\, 255)\;">4. Grand prize winner will be determined at the end of 6 weeks based on participation and results!</p>\n\n<p class="m_-2240642687070310763MsoListParagraph" style="margin: 0in 0in 0in 0.5in\; font-size: 11pt\; font-family: Calibri\, sans-serif\; color: rgb(34\, 34\, 34)\; background-color: rgb(255\, 255\, 255)\;">5. Share your success story to be featured on our website!<br />\n<br />\nEach week a winner will be selected based on participation.&nbsp\; Prizes are donated by Chamber members.&nbsp\; See <a href="https://www.powayhealthy.com/">powayhealthy.com</a> for more details.</p>\n
LOCATION:Where ever you are! All are invited to participate virtually.
UID:e.530.17354
SEQUENCE:3
DTSTAMP:20260420T124459Z
URL:https://business.poway.com/events/details/poway-fit-challenge-week-5-17354
END:VEVENT

END:VCALENDAR
