BEGIN:VCALENDAR
VERSION:2.0
PRODID:-//ChamberMaster//Event Calendar 2.0//EN
METHOD:PUBLISH
X-PUBLISHED-TTL:P3D
REFRESH-INTERVAL:P3D
CALSCALE:GREGORIAN
BEGIN:VEVENT
DTSTART:20220629T233000Z
DTEND:20220630T003000Z
X-MICROSOFT-CDO-ALLDAYEVENT:FALSE
SUMMARY:Poway Fall Festival Committee Meeting
DESCRIPTION:This is the planning committee that will work to plan the Fall Festival scheduled for October 2\, 2022
X-ALT-DESC;FMTTYPE=text/html:This is the planning committee that will work to plan the Fall Festival scheduled for October 2\, 2022
LOCATION:Halcyon Real Estate Services 14282 Danielson St. Poway\, CA 92064
UID:e.530.20587
SEQUENCE:3
DTSTAMP:20260422T143831Z
URL:https://business.poway.com/events/details/poway-fall-festival-committee-meeting-20587
END:VEVENT

END:VCALENDAR
