BEGIN:VCALENDAR
VERSION:2.0
PRODID:-//ChamberMaster//Event Calendar 2.0//EN
METHOD:PUBLISH
X-PUBLISHED-TTL:P3D
REFRESH-INTERVAL:P3D
CALSCALE:GREGORIAN
BEGIN:VEVENT
DTSTART;VALUE=DATE:20220524
DTEND;VALUE=DATE:20220525
TRANSP:TRANSPARENT
X-MICROSOFT-CDO-ALLDAYEVENT:TRUE
SUMMARY:Poway Fall Festival Committee Meeting
DESCRIPTION:This is the planning committee that will work to plan the Fall Festival scheduled for October 2\, 2022
X-ALT-DESC;FMTTYPE=text/html:This is the planning committee that will work to plan the Fall Festival scheduled for October 2\, 2022
LOCATION:TBD
UID:e.530.20584
SEQUENCE:3
DTSTAMP:20260420T055125Z
URL:https://business.poway.com/events/details/poway-fall-festival-committee-meeting-20584
END:VEVENT

END:VCALENDAR
